BEGIN:VCALENDAR
VERSION:2.0
PRODID:-//Baie-Saint-Paul Guide//NONSGML kigkonsult.se iCalcreator 2.30.10/
 /
CALSCALE:GREGORIAN
METHOD:PUBLISH
UID:f0abfb3d-e28f-47e7-bcbd-f60dda1e0d0e
X-WR-CALNAME:iCagenda
X-WR-CALDESC:Event Management Extension for Joomla!
X-WR-RELCALID:3E26604A-50F4-4449-8B3E-E4F4932D05B5
X-WR-TIMEZONE:America/Toronto
BEGIN:VTIMEZONE
TZID:America/Toronto
BEGIN:STANDARD
TZNAME:EST
DTSTART:20251102T020000
TZOFFSETFROM:-0400
TZOFFSETTO:-0500
RDATE:20261101T020000
END:STANDARD
BEGIN:DAYLIGHT
TZNAME:EDT
DTSTART:20250309T020000
TZOFFSETFROM:-0500
TZOFFSETTO:-0400
RDATE:20260308T020000
RDATE:20270314T020000
END:DAYLIGHT
END:VTIMEZONE
BEGIN:VEVENT
UID:73438945-08c0-4b70-853b-850a48037a45
DTSTAMP:20260420T110527Z
CATEGORIES:Musée d'art contemporain de Baie-Saint-Paul
CLASS:PUBLIC
DESCRIPTION;ALTREP="CID:<FFFF__=0ABBE548DFE235B58f9e8a93d@coffeebean.com>":
 Le Musée d’art contemporain de Baie-Saint-Paul a le plaisir de vous convie
 r à son incontournable Cocktail de financement annuel\, qui se tiendra le 
 samedi 8 novembre à 18 h\, à l’Hôtel &amp\; Spa Le Germain Charlevoix. Sou
 s le thème poétique et inspirant Fables\, cette soirée festive et créative
  sera sous la présidence d’honneur de M. Jean-François Denis\, Ph.D. psych
 ologue organisationnel et président de André Fillion &amp\; Associés et an
 imée par la comédienne Joëlle Paré-Beaulieu.\nVéritable moment phare de l’
 année\, le Cocktail de financement est notre principale activité de levée 
 de fonds. Votre présence et votre soutien sont essentiels afin de permettr
 e au MACBSP de poursuivre sa mission et de faire rayonner la seule institu
 tion muséale dédiée à l’art contemporain dans la région de la Capitale-Nat
 ionale.\nEn contribuant\, vous soutenez le développement du Musée dans tou
 s ses volets — programmation\, éducation\, conservation — et participez ac
 tivement à son dynamisme\, ainsi qu’au déploiement de projets novateurs qu
 i enrichissent notre communauté.\nQuand : Le samedi 8 novembre 2025 à 18h0
 0\nOù : Hôtel &amp\; Spa Le Germain Charlevoix\, 50\, Rue de la Ferme\, Ba
 ie-Saint-Paul\nCoût du billet : 250 $ (un reçu fiscal au montant de 200 $ 
 sera émis)\nProcurez-vous votre billet ici : http://macbsp-prive.tuxedobil
 let.com/.../cocktail-de...\nL'équipe du MACBSP tient à remercier ses préci
 eux partenaires pour cette soirée :Hôtel et Spa Le Germain Charlevoix\, Ar
 tys Transit\, Accent Solutions d'Assurances et la SAQ
DTSTART:20251108T230000Z
DTEND:20251109T040000Z
GEO:+47.435905;-70.504669
LOCATION:Grande Salle Hotel le Germain
ORGANIZER:
SEQUENCE:1
SUMMARY:Cocktail de financement annuel du MACBSP
TRANSP:OPAQUE
URL:https://www.baiesaintpaulguide.com.terreciel.ca/component/icagenda/cock
 tail-de-financement-annuel-du-macbsp.html?Itemid=103
END:VEVENT
END:VCALENDAR
