BEGIN:VCALENDAR
VERSION:2.0
PRODID:-//Baie-Saint-Paul Guide//NONSGML kigkonsult.se iCalcreator 2.30.10/
 /
CALSCALE:GREGORIAN
METHOD:PUBLISH
UID:2c5a0b7f-002a-4fba-8fd2-2d60fe52020a
X-WR-CALNAME:iCagenda
X-WR-CALDESC:Event Management Extension for Joomla!
X-WR-RELCALID:3E26604A-50F4-4449-8B3E-E4F4932D05B5
X-WR-TIMEZONE:America/Toronto
BEGIN:VTIMEZONE
TZID:America/Toronto
BEGIN:STANDARD
TZNAME:EST
DTSTART:20251102T020000
TZOFFSETFROM:-0400
TZOFFSETTO:-0500
RDATE:20261101T020000
END:STANDARD
BEGIN:DAYLIGHT
TZNAME:EDT
DTSTART:20250309T020000
TZOFFSETFROM:-0500
TZOFFSETTO:-0400
RDATE:20260308T020000
RDATE:20270314T020000
END:DAYLIGHT
END:VTIMEZONE
BEGIN:VEVENT
UID:e9829c00-5d35-426f-9e94-95924c2abd8c
DTSTAMP:20260420T110901Z
CATEGORIES:Musée d'art contemporain de Baie-Saint-Paul
CLASS:PUBLIC
DESCRIPTION;ALTREP="CID:<FFFF__=0ABBE548DFE235B58f9e8a93d@coffeebean.com>":
 Notre documentaire 'COZIC' sera présenté au Musée d'art contemporain de Ba
 ie-St-Paul le 18 novembre 2025 à 20h ! Réservez la date ! Merci à K-Films 
 Amérique\, au Musée d'art contemporain de Baie-St-Paul et au FIFA de nous 
 avoir inclus dans la 3e édition de la tournée régionale du FIFA !
DTSTART:20251119T010000Z
DTEND:20251119T030000Z
GEO:+47.440292;-70.505592
LOCATION:Musée d'art contemporain de Baie-Saint-Paul
ORGANIZER:
SEQUENCE:1
SUMMARY:“COZIC” au Musée d’art contemporain de Baie-St-Paul
TRANSP:OPAQUE
URL:https://www.baiesaintpaulguide.com.terreciel.ca/component/icagenda/cozi
 c-au-musee-dart-contemporain-de-baie-st-paul.html?Itemid=103
END:VEVENT
END:VCALENDAR
