BEGIN:VCALENDAR
VERSION:2.0
PRODID:-//Baie-Saint-Paul Guide//NONSGML kigkonsult.se iCalcreator 2.30.10/
 /
CALSCALE:GREGORIAN
METHOD:PUBLISH
UID:c8441d3b-df3e-447e-9884-77574412a549
X-WR-CALNAME:iCagenda
X-WR-CALDESC:Event Management Extension for Joomla!
X-WR-RELCALID:3E26604A-50F4-4449-8B3E-E4F4932D05B5
X-WR-TIMEZONE:America/Toronto
BEGIN:VTIMEZONE
TZID:America/Toronto
BEGIN:STANDARD
TZNAME:EST
DTSTART:20241103T020000
TZOFFSETFROM:-0400
TZOFFSETTO:-0500
RDATE:20251102T020000
RDATE:20261101T020000
END:STANDARD
BEGIN:DAYLIGHT
TZNAME:EDT
DTSTART:20250309T020000
TZOFFSETFROM:-0500
TZOFFSETTO:-0400
RDATE:20260308T020000
RDATE:20270314T020000
END:DAYLIGHT
END:VTIMEZONE
BEGIN:VEVENT
UID:c6aedca5-d907-405e-ac62-48b4e04186ac
DTSTAMP:20260420T124156Z
CATEGORIES:Bistro des Balcons
CLASS:PUBLIC
DESCRIPTION;ALTREP="CID:<FFFF__=0ABBE548DFE235B58f9e8a93d@coffeebean.com>":
 On vous accueille chaque semaine pour des 5 à 7 avec toujours de nouveaux 
 DJ invités pour varier les plaisirs &amp\; les styles !\n \n23 et 30 octob
 re 202513 et 20 novembre 2025
DTSTART:20251023T210000Z
DTEND:20251030T230000Z
GEO:+47.438202;-70.505577
LOCATION:Bistro des Balcons
ORGANIZER:
SEQUENCE:1
SUMMARY:Les Jeudis 5 à 7
TRANSP:OPAQUE
URL:https://www.baiesaintpaulguide.com.terreciel.ca/component/icagenda/les-
 jeudis-5-a-7.html?Itemid=103
END:VEVENT
END:VCALENDAR
