BEGIN:VCALENDAR
VERSION:2.0
PRODID:-//Baie-Saint-Paul Guide//NONSGML kigkonsult.se iCalcreator 2.30.10/
 /
CALSCALE:GREGORIAN
METHOD:PUBLISH
UID:ae52d3a4-3c3e-4194-9ca7-1618ddb3d044
X-WR-CALNAME:iCagenda
X-WR-CALDESC:Event Management Extension for Joomla!
X-WR-RELCALID:3E26604A-50F4-4449-8B3E-E4F4932D05B5
X-WR-TIMEZONE:America/Toronto
BEGIN:VTIMEZONE
TZID:America/Toronto
BEGIN:STANDARD
TZNAME:EST
DTSTART:20251102T020000
TZOFFSETFROM:-0400
TZOFFSETTO:-0500
RDATE:20261101T020000
END:STANDARD
BEGIN:DAYLIGHT
TZNAME:EDT
DTSTART:20250309T020000
TZOFFSETFROM:-0500
TZOFFSETTO:-0400
RDATE:20260308T020000
RDATE:20270314T020000
END:DAYLIGHT
END:VTIMEZONE
BEGIN:VEVENT
UID:5b693984-5a8a-462f-823a-85abd3cef082
DTSTAMP:20260420T110410Z
CATEGORIES:Rencontre
CLASS:PUBLIC
DESCRIPTION;ALTREP="CID:<FFFF__=0ABBE548DFE235B58f9e8a93d@coffeebean.com>":
 Autour d’un verre\, dans un 5à7 convivial\, un ou une profesionnel.le char
 levoisien.ne raconte son parcours\, ses défis\, des succès.\nLe premier pr
 o de la saison seraANTOINE NEYRON\, propriétaire et directeur de l’Hôtel B
 aie-Saint-Paul.\nLe jeudi 6 novembre\, 17hà la Maison Otis (Baie-Saint-Pau
 l)\nUn événement de la Chambre de commerce de CharlevoixPrésenté par Benoî
 t Côté CPABillets: https://chambredecommercedecharlevoix.s1.yapla.com/fr/e
 vent-76043\n 
DTSTART:20251106T220000Z
DTEND:20251106T233000Z
GEO:+47.442474;-70.506851
LOCATION:Maison Otis
ORGANIZER:
SEQUENCE:1
SUMMARY:Pro à l’apéro - Antoine Neyron
TRANSP:OPAQUE
URL:https://www.baiesaintpaulguide.com.terreciel.ca/component/icagenda/pro-
 a-lapero-antoine-neyron.html?Itemid=103
END:VEVENT
END:VCALENDAR
