BEGIN:VCALENDAR
VERSION:2.0
PRODID:-//Baie-Saint-Paul Guide//NONSGML kigkonsult.se iCalcreator 2.30.10/
 /
CALSCALE:GREGORIAN
METHOD:PUBLISH
UID:d86ced71-0348-4ab1-a56c-9b396e59d1c8
X-WR-CALNAME:iCagenda
X-WR-CALDESC:Event Management Extension for Joomla!
X-WR-RELCALID:3E26604A-50F4-4449-8B3E-E4F4932D05B5
X-WR-TIMEZONE:America/Toronto
BEGIN:VTIMEZONE
TZID:America/Toronto
BEGIN:STANDARD
TZNAME:EST
DTSTART:20251102T020000
TZOFFSETFROM:-0400
TZOFFSETTO:-0500
RDATE:20261101T020000
END:STANDARD
BEGIN:DAYLIGHT
TZNAME:EDT
DTSTART:20250309T020000
TZOFFSETFROM:-0500
TZOFFSETTO:-0400
RDATE:20260308T020000
RDATE:20270314T020000
END:DAYLIGHT
END:VTIMEZONE
BEGIN:VEVENT
UID:403ece47-a288-43e6-92b3-cb04b39a203f
DTSTAMP:20260420T110553Z
CATEGORIES:Bistro des Balcons
CLASS:PUBLIC
DESCRIPTION;ALTREP="CID:<FFFF__=0ABBE548DFE235B58f9e8a93d@coffeebean.com>":
 Le mercredi 12 Novembre\, on met vos méninges au défi avec une soirée quiz
  animée par nul autre que Cédric! Formez votre équipe (maximum 4 personnes
 ) et venez tester vos connaissances dans une ambiance conviviale et festiv
 e. Des prix sont à gagner pour les grands champions!Début du quiz : 19hNe 
 manquez pas cette soirée qui promet autant de rires que de remue-méninges!
 \n \n20$ plus taxes par équipe : https://lepointdevente.com/billets/adb250
 924001
DTSTART:20251113T000000Z
DTEND:20251113T020000Z
GEO:+47.438202;-70.505577
LOCATION:Bistro des Balcons
ORGANIZER:
SEQUENCE:1
SUMMARY:Soirée Quiz au Bistro des Balcons
TRANSP:OPAQUE
URL:https://www.baiesaintpaulguide.com.terreciel.ca/component/icagenda/soir
 ee-quiz-au-bistro-des-balcons.html?Itemid=103
END:VEVENT
END:VCALENDAR
