BEGIN:VCALENDAR
VERSION:2.0
PRODID:-//Baie-Saint-Paul Guide//NONSGML kigkonsult.se iCalcreator 2.30.10/
 /
CALSCALE:GREGORIAN
METHOD:PUBLISH
UID:475d106a-89a1-4368-a29c-8a81ab3150d7
X-WR-CALNAME:iCagenda
X-WR-CALDESC:Event Management Extension for Joomla!
X-WR-RELCALID:3E26604A-50F4-4449-8B3E-E4F4932D05B5
X-WR-TIMEZONE:America/Toronto
BEGIN:VTIMEZONE
TZID:America/Toronto
BEGIN:STANDARD
TZNAME:EST
DTSTART:20241103T020000
TZOFFSETFROM:-0400
TZOFFSETTO:-0500
RDATE:20251102T020000
RDATE:20261101T020000
END:STANDARD
BEGIN:DAYLIGHT
TZNAME:EDT
DTSTART:20250309T020000
TZOFFSETFROM:-0500
TZOFFSETTO:-0400
RDATE:20260308T020000
END:DAYLIGHT
END:VTIMEZONE
BEGIN:VEVENT
UID:28c9fb81-229f-4878-955b-708f12bdf1e1
DTSTAMP:20260420T123115Z
CATEGORIES:Musée d'art contemporain de Baie-Saint-Paul
CLASS:PUBLIC
DESCRIPTION;ALTREP="CID:<FFFF__=0ABBE548DFE235B58f9e8a93d@coffeebean.com>":
 CONFÉRENCE PUBLIQUE GRATUITEAvec Jérôme DuprasChercheur en économie écolog
 ique et membre des Cowboys Fringants\nJeudi 4 septembre\, 17 h à 19 hPavil
 lon du Musée d’art contemporain de Baie-Saint-Paul\nPerspectives du Québec
  sur la transition écologique\nÀ travers des exemples inspirants et des re
 cherches de pointe\, Jérôme Dupras propose un regard éclairant sur les lie
 ns entre économie\, environnement et qualité de vie. Il explorera des solu
 tions concrètes pour imaginer ensemble un avenir plus équilibré\, durable 
 et solidaire.\nEt si le Québec devenait un modèle de transition écologique
  ?
DTSTART:20250904T210000Z
DTEND:20250904T230000Z
GEO:+47.440292;-70.505592
LOCATION:Musée d'art contemporain de Baie-Saint-Paul
ORGANIZER:
SEQUENCE:1
SUMMARY:Conférence de Jérôme Dupras
TRANSP:OPAQUE
URL:https://www.baiesaintpaulguide.com.terreciel.ca/en/component/icagenda/c
 onference-de-jerome-dupras.html?Itemid=102
END:VEVENT
END:VCALENDAR
