BEGIN:VCALENDAR
VERSION:2.0
PRODID:-//Baie-Saint-Paul Guide//NONSGML kigkonsult.se iCalcreator 2.30.10/
 /
CALSCALE:GREGORIAN
METHOD:PUBLISH
UID:a6165772-23e0-47dc-8b59-347ff4a045f4
X-WR-CALNAME:iCagenda
X-WR-CALDESC:Event Management Extension for Joomla!
X-WR-RELCALID:3E26604A-50F4-4449-8B3E-E4F4932D05B5
X-WR-TIMEZONE:America/Toronto
BEGIN:VTIMEZONE
TZID:America/Toronto
BEGIN:STANDARD
TZNAME:EST
DTSTART:20241103T020000
TZOFFSETFROM:-0400
TZOFFSETTO:-0500
RDATE:20251102T020000
RDATE:20261101T020000
END:STANDARD
BEGIN:DAYLIGHT
TZNAME:EDT
DTSTART:20250309T020000
TZOFFSETFROM:-0500
TZOFFSETTO:-0400
RDATE:20260308T020000
END:DAYLIGHT
END:VTIMEZONE
BEGIN:VEVENT
UID:1bf13fad-6aab-4883-998b-e41316fe1ef8
DTSTAMP:20260420T134525Z
CATEGORIES:Animation Baie-Saint-Paul
CLASS:PUBLIC
DESCRIPTION;ALTREP="CID:<FFFF__=0ABBE548DFE235B58f9e8a93d@coffeebean.com>":
 Venez passer une soirée festive en compagnie de Doug St-Louis!Amusez-vous 
 avec vos amis au son de sa musique et son succès solo “Bien entouré”.\nAut
 eur-compositeur-interprète\, ingénieur de son et réalisateur\, Doug St-Lou
 is est avant tout une bête de scène. Il acquiert son expérience en faisant
  le tour de la province à plusieurs reprises lors d’une multitude de conce
 rts autant dans les festivals que dans les plus grandes salles du Québec e
 n mode solo ou en tant qu'artiste invité et choriste.\nAccompagné de son a
 colyte “Chuck” aux table tournantes\, il vous offre un spectacle un specta
 cle rythmé qui “brasse la cabane” avec une touche d’humour et qui ne laiss
 e absolument personne indifférent. Une chose est sure c’est que l’ambiance
  sera au “party” !\nVous l’avez certainement déjà entendu aux radios comme
 rciales avec un de ses nombreux singles qui ont grimpés dans le top 100 BD
 S. Il à d’ailleurs eu la chance de travailler avec plusieurs artistes tel 
 que: Snoop Dogg\, Flo Rida\, Wyclef Jean\, Audio Playgroud\, Roxane Brunea
 u\, Adamo (Gros Big)\, Francis Degranpré\, Laurence St-Martin et Dan D-noy
  (pour n’en nommer que quelques-uns). Il cumule à ce jour des millions de 
 streams ainsi que deux disques d’or.\nIl sortira d’ailleurs sous peu son p
 remier album solo en carrière à saveur Country Urbaine. Un style un peu éc
 lectique bien à sa couleur mais toujours à saveur pop.
DTSTART:20250802T233000Z
DTEND:20250803T010000Z
GEO:+47.441021;-70.506462
LOCATION:Place de l'Église
ORGANIZER:
SEQUENCE:1
SUMMARY:Doug St-Louis
TRANSP:OPAQUE
URL:https://www.baiesaintpaulguide.com.terreciel.ca/en/component/icagenda/d
 oug-st-louis.html?Itemid=102
END:VEVENT
END:VCALENDAR
