BEGIN:VCALENDAR
VERSION:2.0
PRODID:-//Baie-Saint-Paul Guide//NONSGML kigkonsult.se iCalcreator 2.30.10/
 /
CALSCALE:GREGORIAN
METHOD:PUBLISH
UID:c1c7e9eb-f15a-4a6f-a97f-1167631a3041
X-WR-CALNAME:iCagenda
X-WR-CALDESC:Event Management Extension for Joomla!
X-WR-RELCALID:3E26604A-50F4-4449-8B3E-E4F4932D05B5
X-WR-TIMEZONE:America/Toronto
BEGIN:VTIMEZONE
TZID:America/Toronto
BEGIN:STANDARD
TZNAME:EST
DTSTART:20241103T020000
TZOFFSETFROM:-0400
TZOFFSETTO:-0500
RDATE:20251102T020000
RDATE:20261101T020000
END:STANDARD
BEGIN:DAYLIGHT
TZNAME:EDT
DTSTART:20250309T020000
TZOFFSETFROM:-0500
TZOFFSETTO:-0400
RDATE:20260308T020000
END:DAYLIGHT
END:VTIMEZONE
BEGIN:VEVENT
UID:3cf455d9-8773-431b-8fd8-fea8a8ab2f18
DTSTAMP:20260420T134607Z
CATEGORIES:Les Dimanches Musicaux
CLASS:PUBLIC
DESCRIPTION;ALTREP="CID:<FFFF__=0ABBE548DFE235B58f9e8a93d@coffeebean.com>":
 Violon\, Guitare &amp\; VoixPuisant dans les grands compositeurs d’hier et
  d’aujourd’hui\, les expérimentés musiciens Phillipe Amyot et Yvan Bouchar
 d offrent un répertoire très varié allant du style classique au jazz\, en 
 passant par la musique populaire ou traditionnelle. La réunion du violon e
 t de la guitare\, auxquelles s’ajoute occasionnellement la voix\, transpor
 te l’auditoire vers des couleurs musicales chaudes\, teintées de romantism
 e et de profondeur. La sonorité simple des cordes apporte à la musique bea
 ucoup d’intimité et reflète le long parcours d’une complicité développée a
 u fil des années. Une musique pour toute circonstance!Billets : https://le
 pointdevente.com/billets/rww250824001
DTSTART:20250824T150000Z
DTEND:20250824T163000Z
GEO:+47.438431;-70.506203
LOCATION:Chapelle de Maison Mère
ORGANIZER:
SEQUENCE:1
SUMMARY:Duo À Tous Cordes
TRANSP:OPAQUE
URL:https://www.baiesaintpaulguide.com.terreciel.ca/en/component/icagenda/d
 uo-a-tous-cordes.html?Itemid=102
END:VEVENT
END:VCALENDAR
