BEGIN:VCALENDAR
VERSION:2.0
PRODID:-//Baie-Saint-Paul Guide//NONSGML kigkonsult.se iCalcreator 2.30.10/
 /
CALSCALE:GREGORIAN
METHOD:PUBLISH
UID:1d16ad9c-5869-460d-9c41-a3ed6a0a05d1
X-WR-CALNAME:iCagenda
X-WR-CALDESC:Event Management Extension for Joomla!
X-WR-RELCALID:3E26604A-50F4-4449-8B3E-E4F4932D05B5
X-WR-TIMEZONE:America/Toronto
BEGIN:VTIMEZONE
TZID:America/Toronto
BEGIN:STANDARD
TZNAME:EST
DTSTART:20241103T020000
TZOFFSETFROM:-0400
TZOFFSETTO:-0500
RDATE:20251102T020000
RDATE:20261101T020000
END:STANDARD
BEGIN:DAYLIGHT
TZNAME:EDT
DTSTART:20250309T020000
TZOFFSETFROM:-0500
TZOFFSETTO:-0400
RDATE:20260308T020000
END:DAYLIGHT
END:VTIMEZONE
BEGIN:VEVENT
UID:a2557607-439f-492c-9430-b6752e68b33d
DTSTAMP:20260420T134720Z
CATEGORIES:Animation Baie-Saint-Paul
CLASS:PUBLIC
DESCRIPTION;ALTREP="CID:<FFFF__=0ABBE548DFE235B58f9e8a93d@coffeebean.com>":
 Animation de cirque\, Tissus et cerceaux aériens &nbsp\;\nDepuis 2009\, An
 ouk a créé plusieurs numéros en duo de main à main\, mêlant émotions\, per
 sonnages\, danse\, acrobatie et portés acrobatiques. Aux côtés de Nathan\,
  elle vous transporte dans un univers à la fois poétique\, romantique et s
 pectaculaire\, porté par une complicité exceptionnelle.\nAnnetta et Gustav
 e\, c’est un duo inspiré du charme des années 50\, où les corps se balance
 nt et s’entrelacent au rythme de musiques envoûtantes. Sur un décor rouge 
 et noir\, leurs portés aériens\, leur grâce et leur magnétisme captivent e
 t séduisent. Ces deux artistes vous convient à une rencontre hors du temps
 \, où l’art vivant prend vie comme deux âmes légères voyageant sur les air
 s d’Édith Piaf et d’autres mélodies intemporelles.\nDisciplines présentées
  :&nbsp\;tissu aérien\, cerceau aérien\, duo de mains à mains et duo de ti
 ssu loop aérien.
DTSTART:20250808T223000Z
DTEND:20250808T233000Z
GEO:+47.441021;-70.506462
LOCATION:Place de l'Église
ORGANIZER:
SEQUENCE:1
SUMMARY:Duo Anneta et Gustave
TRANSP:OPAQUE
URL:https://www.baiesaintpaulguide.com.terreciel.ca/en/component/icagenda/d
 uo-anneta-et-gustave.html?Itemid=102
END:VEVENT
END:VCALENDAR
