BEGIN:VCALENDAR
VERSION:2.0
PRODID:-//Baie-Saint-Paul Guide//NONSGML kigkonsult.se iCalcreator 2.30.10/
 /
CALSCALE:GREGORIAN
METHOD:PUBLISH
UID:6ace3d3d-63d0-45dc-b3ae-ea38eb4e4af4
X-WR-CALNAME:iCagenda
X-WR-CALDESC:Event Management Extension for Joomla!
X-WR-RELCALID:3E26604A-50F4-4449-8B3E-E4F4932D05B5
X-WR-TIMEZONE:America/Toronto
BEGIN:VTIMEZONE
TZID:America/Toronto
BEGIN:STANDARD
TZNAME:EST
DTSTART:20241103T020000
TZOFFSETFROM:-0400
TZOFFSETTO:-0500
RDATE:20251102T020000
RDATE:20261101T020000
END:STANDARD
BEGIN:DAYLIGHT
TZNAME:EDT
DTSTART:20250309T020000
TZOFFSETFROM:-0500
TZOFFSETTO:-0400
RDATE:20260308T020000
END:DAYLIGHT
END:VTIMEZONE
BEGIN:VEVENT
UID:58ba3d83-138e-40d6-ae50-fa2abf64d576
DTSTAMP:20260420T134427Z
CATEGORIES:Les Dimanches Musicaux
CLASS:PUBLIC
DESCRIPTION;ALTREP="CID:<FFFF__=0ABBE548DFE235B58f9e8a93d@coffeebean.com>":
 Formé de quatre musiciennes issues de la relève (Corinne Lanthier\, Elina 
 Wanecq\, Jennifer Lachaîne et Juliette Louvradoux)\, Ensemble Altaïr est u
 n quatuor de saxophones qui a pour vocation de rendre la musique accessibl
 e à tous les publics et d’offrir une expérience musicale unique en explora
 nt un répertoire éclectique qui traverse les époques. Leur programme\, con
 çu comme un voyage temporel\, propose des œuvres emblématiques de la musiq
 ue baroque\, telles que les fugues de Bach\, jusqu’aux bandes sonores de f
 ilms récents comme Star Wars. En alliant leur technique impeccable à une a
 pproche inclusive et captivante\, Ensemble Altaïr aspire à démocratiser la
  musique et à créer des moments inoubliables pour des auditoires de tous h
 orizons.Billets: https://lepointdevente.com/billets/rww250803001
DTSTART:20250803T150000Z
DTEND:20250803T170000Z
GEO:+47.438431;-70.506203
LOCATION:Chapelle de Maison Mère
ORGANIZER:
SEQUENCE:1
SUMMARY:Ensemble Altaïr
TRANSP:OPAQUE
URL:https://www.baiesaintpaulguide.com.terreciel.ca/en/component/icagenda/e
 nsemble-altair.html?Itemid=102
END:VEVENT
END:VCALENDAR
