BEGIN:VCALENDAR
VERSION:2.0
PRODID:-//Baie-Saint-Paul Guide//NONSGML kigkonsult.se iCalcreator 2.30.10/
 /
CALSCALE:GREGORIAN
METHOD:PUBLISH
UID:422a1f52-5151-459a-8d84-98cacf50f433
X-WR-CALNAME:iCagenda
X-WR-CALDESC:Event Management Extension for Joomla!
X-WR-RELCALID:3E26604A-50F4-4449-8B3E-E4F4932D05B5
X-WR-TIMEZONE:America/Toronto
BEGIN:VTIMEZONE
TZID:America/Toronto
BEGIN:STANDARD
TZNAME:EST
DTSTART:20251102T020000
TZOFFSETFROM:-0400
TZOFFSETTO:-0500
RDATE:20261101T020000
END:STANDARD
BEGIN:DAYLIGHT
TZNAME:EDT
DTSTART:20250309T020000
TZOFFSETFROM:-0500
TZOFFSETTO:-0400
RDATE:20260308T020000
RDATE:20270314T020000
END:DAYLIGHT
END:VTIMEZONE
BEGIN:VEVENT
UID:d5331e36-9954-43bb-97b4-674d907f80da
DTSTAMP:20260420T044611Z
CATEGORIES:Projection de film
CLASS:PUBLIC
DESCRIPTION;ALTREP="CID:<FFFF__=0ABBE548DFE235B58f9e8a93d@coffeebean.com>":
 L'incontournable Festival du film de montagne de Banff est de retour! \n 2
  projections présentées en admission générale \n SAMEDI 21 FÉVRIER 2026 – 
 14H00 SAMEDI 21 FÉVRIER 2026 – 19H00\nEn janvier et février 2026\, la tour
 née célébrera 50 ans de pur dépassement! Laissez-vous émerveiller par les 
 images spectaculaires d'hommes et de femmes exceptionnels qui repoussent s
 ouvent leurs exploits aux limites du possible. Une expérience cinématograp
 hique incontournable qui célèbre la passion et l'audace.\nProgrammation 20
 26  À venir fin novembre 2025FAQ  banffquebec.ca/faq/\n INFOS PRATIQUES: D
 urée de la soirée : 3 heures\, entracte et tirage inclus Ouverture des por
 tes : une heure avant le début de la projection.\nLes films sont présentés
  en version originale sous-titrée en français et sont les mêmes à chacune 
 des représentations.\nwww.banffquebec.caInstagram @BanffQuebec#banffquebec
 \nPrésenté par Banff &amp\; Lake Louise et Rab\nCrédit photo : Banff Natio
 nal Park\, photo par Paul Zizka
DTSTART:20260221T190000Z
DTEND:20260222T031500Z
GEO:+47.435905;-70.504669
LOCATION:Hôtel & Spa Le Germain Charlevoix
ORGANIZER:
SEQUENCE:1
SUMMARY:Festival du film de montagne de Banff au Québec
TRANSP:OPAQUE
URL:https://www.baiesaintpaulguide.com.terreciel.ca/en/component/icagenda/f
 estival-du-film-de-montagne-de-banff-au-quebec-3.html?Itemid=102
END:VEVENT
END:VCALENDAR
