BEGIN:VCALENDAR
VERSION:2.0
PRODID:-//Baie-Saint-Paul Guide//NONSGML kigkonsult.se iCalcreator 2.30.10/
 /
CALSCALE:GREGORIAN
METHOD:PUBLISH
UID:0b4b65b6-ae22-4c59-80d8-857e3f4884f3
X-WR-CALNAME:iCagenda
X-WR-CALDESC:Event Management Extension for Joomla!
X-WR-RELCALID:3E26604A-50F4-4449-8B3E-E4F4932D05B5
X-WR-TIMEZONE:America/Toronto
BEGIN:VTIMEZONE
TZID:America/Toronto
BEGIN:STANDARD
TZNAME:EST
DTSTART:20241103T020000
TZOFFSETFROM:-0400
TZOFFSETTO:-0500
RDATE:20251102T020000
RDATE:20261101T020000
END:STANDARD
BEGIN:DAYLIGHT
TZNAME:EDT
DTSTART:20250309T020000
TZOFFSETFROM:-0500
TZOFFSETTO:-0400
RDATE:20260308T020000
RDATE:20270314T020000
END:DAYLIGHT
END:VTIMEZONE
BEGIN:VEVENT
UID:08bf6557-a4a0-42f4-a0b5-19e38467dee7
DTSTAMP:20260420T124130Z
CATEGORIES:Omerto
CLASS:PUBLIC
DESCRIPTION;ALTREP="CID:<FFFF__=0ABBE548DFE235B58f9e8a93d@coffeebean.com>":
 Une soirée sous le signe de la gourmandise !\nVenez déguster une authentiq
 ue raclette suisse\, concoctée par Le P’tit Resto Suisse de Charlevoix\, A
 h La Vache ! Pour parfaire l’expérience\, laissez-vous tenter par notre co
 cktail surprise 'découverte' et savourez un verre de vin au choix\, sec ou
  moelleux.\nChaleur\, convivialité et plaisir gustatif garantis !\n \nNe m
 anquez pas cette expérience unique ! Réservez dès maintenant vos billets e
 n ligne pour garantir votre place\, car elles sont limitées. Rendez-vous a
 u 328\, rang Saint-Antoine N\, Baie-Saint-Paul\, Québec G3Z 2C3 pour une e
 xpérience culinaire inoubliable. Veuillez noter que le menu peut différer 
 de l'image. Ne tardez pas\, achetez vos billets dès aujourd’hui !\n \nPour
  voir tous nos évènements\, visitez le site : lepointdevente.com/billets/o
 merto
DTSTART:20250925T200000Z
DTEND:20250926T000000Z
GEO:00;0
LOCATION:Omerto
ORGANIZER:
SEQUENCE:1
SUMMARY:Les Jeudis 4@8 chez Omerto - Soirée Raclette - Ah la Vache!
TRANSP:OPAQUE
URL:https://www.baiesaintpaulguide.com.terreciel.ca/en/component/icagenda/l
 es-jeudis-4-8-chez-omerto-soiree-raclette-ah-la-vache-2.html?Itemid=102
END:VEVENT
END:VCALENDAR
