BEGIN:VCALENDAR
VERSION:2.0
PRODID:-//Baie-Saint-Paul Guide//NONSGML kigkonsult.se iCalcreator 2.30.10/
 /
CALSCALE:GREGORIAN
METHOD:PUBLISH
UID:9cc1fa1d-c631-4faf-baa6-af73d510caa2
X-WR-CALNAME:iCagenda
X-WR-CALDESC:Event Management Extension for Joomla!
X-WR-RELCALID:3E26604A-50F4-4449-8B3E-E4F4932D05B5
X-WR-TIMEZONE:America/Toronto
BEGIN:VTIMEZONE
TZID:America/Toronto
BEGIN:STANDARD
TZNAME:EST
DTSTART:20251102T020000
TZOFFSETFROM:-0400
TZOFFSETTO:-0500
RDATE:20261101T020000
END:STANDARD
BEGIN:DAYLIGHT
TZNAME:EDT
DTSTART:20250309T020000
TZOFFSETFROM:-0500
TZOFFSETTO:-0400
RDATE:20260308T020000
RDATE:20270314T020000
END:DAYLIGHT
END:VTIMEZONE
BEGIN:VEVENT
UID:90272216-b16b-432d-82f2-6bd0fadec91e
DTSTAMP:20260420T080843Z
CATEGORIES:Bistro des Balcons
CLASS:PUBLIC
DESCRIPTION;ALTREP="CID:<FFFF__=0ABBE548DFE235B58f9e8a93d@coffeebean.com>":
 Soirée double programme au Bistro des Balcons : Bingo suivi du hockey Cana
 diens de Montréal.Le mardi 16 Décembre à 18h\, on joue au bingo et on proj
 ette ensuite sur grand écran le match des Canadiens de Montréal. Bières\, 
 bouffe et grosse dose de hockey au rendez-vous!18h - Heure localeBistro de
 s BalconsÇa promet!\n 
DTSTART:20251216T220000Z
DTEND:20251217T023000Z
GEO:+47.438202;-70.505577
LOCATION:Bistro des Balcons
ORGANIZER:
SEQUENCE:1
SUMMARY:Programme double Bingo et Hockey
TRANSP:OPAQUE
URL:https://www.baiesaintpaulguide.com.terreciel.ca/en/component/icagenda/p
 rogramme-double-bingo-et-hockey.html?Itemid=102
END:VEVENT
END:VCALENDAR
