BEGIN:VCALENDAR
VERSION:2.0
PRODID:-//Baie-Saint-Paul Guide//NONSGML kigkonsult.se iCalcreator 2.30.10/
 /
CALSCALE:GREGORIAN
METHOD:PUBLISH
UID:5e266758-7256-4a72-891e-6d4b6dc47a67
X-WR-CALNAME:iCagenda
X-WR-CALDESC:Event Management Extension for Joomla!
X-WR-RELCALID:3E26604A-50F4-4449-8B3E-E4F4932D05B5
X-WR-TIMEZONE:America/Toronto
BEGIN:VTIMEZONE
TZID:America/Toronto
BEGIN:STANDARD
TZNAME:EST
DTSTART:20251102T020000
TZOFFSETFROM:-0400
TZOFFSETTO:-0500
RDATE:20261101T020000
END:STANDARD
BEGIN:DAYLIGHT
TZNAME:EDT
DTSTART:20250309T020000
TZOFFSETFROM:-0500
TZOFFSETTO:-0400
RDATE:20260308T020000
RDATE:20270314T020000
END:DAYLIGHT
END:VTIMEZONE
BEGIN:VEVENT
UID:f309e0ab-dfa3-4594-bf1d-88bf822e3577
DTSTAMP:20260420T093535Z
CATEGORIES:Bistro des Balcons
CLASS:PUBLIC
DESCRIPTION;ALTREP="CID:<FFFF__=0ABBE548DFE235B58f9e8a93d@coffeebean.com>":
 Le mardi 25 Novembre\, c'est le retour des soirées bingo avec TVCO.- Vente
  des cartes dès 17h- Début du Bingo à 18hVenez tenter votre chance\, passe
 r un bon moment entre amis et profiter de l’ambiance unique du Bistro des 
 Balcons.\nOn vous attend nombreux!
DTSTART:20251125T220000Z
DTEND:20251126T020000Z
GEO:+47.438202;-70.505577
LOCATION:Bistro des Balcons
ORGANIZER:
SEQUENCE:1
SUMMARY:Soirée Bingo au Bistro des Balcons!
TRANSP:OPAQUE
URL:https://www.baiesaintpaulguide.com.terreciel.ca/en/component/icagenda/s
 oiree-bingo-au-bistro-des-balcons.html?Itemid=102
END:VEVENT
END:VCALENDAR
