BEGIN:VCALENDAR
VERSION:2.0
PRODID:-//Baie-Saint-Paul Guide//NONSGML kigkonsult.se iCalcreator 2.30.10/
 /
CALSCALE:GREGORIAN
METHOD:PUBLISH
UID:d5818835-a0dc-4f4b-b2a1-7e6c5d007356
X-WR-CALNAME:iCagenda
X-WR-CALDESC:Event Management Extension for Joomla!
X-WR-RELCALID:3E26604A-50F4-4449-8B3E-E4F4932D05B5
X-WR-TIMEZONE:America/Toronto
BEGIN:VTIMEZONE
TZID:America/Toronto
BEGIN:STANDARD
TZNAME:EST
DTSTART:20241103T020000
TZOFFSETFROM:-0400
TZOFFSETTO:-0500
RDATE:20251102T020000
RDATE:20261101T020000
END:STANDARD
BEGIN:DAYLIGHT
TZNAME:EDT
DTSTART:20250309T020000
TZOFFSETFROM:-0500
TZOFFSETTO:-0400
RDATE:20260308T020000
END:DAYLIGHT
END:VTIMEZONE
BEGIN:VEVENT
UID:4f5211f5-008e-49dc-83c2-bc252b4c2ffa
DTSTAMP:20260420T134600Z
CATEGORIES:Animation Baie-Saint-Paul
CLASS:PUBLIC
DESCRIPTION;ALTREP="CID:<FFFF__=0ABBE548DFE235B58f9e8a93d@coffeebean.com>":
 Artistes de performances et création collective du Symposium\nPour cette s
 oirée\, le Symposium s’allie à Animation Baie-Saint-Paul afin de créer un 
 moment unique sous le thème de la Rencontre. Dès 18 h\, nous vous invitons
  à vivre une expérience mettant de l’avant l’art contemporain avec Mathieu
  Fecteau\, sculpteur-patenteux\, qui a conçu le Tric-O-Mobile\, un tricycl
 e permettant de tricoter des tuques et foulards uniques grâce à un système
  de pédalier. Vous pourrez également réaliser vos propres créations à base
  de laine.
DTSTART:20250801T223000Z
DTEND:20250801T233000Z
GEO:+47.441021;-70.506462
LOCATION:Place de l'Église
ORGANIZER:
SEQUENCE:1
SUMMARY:Tric-O-Mobile
TRANSP:OPAQUE
URL:https://www.baiesaintpaulguide.com.terreciel.ca/en/component/icagenda/t
 ric-o-mobile.html?Itemid=102
END:VEVENT
END:VCALENDAR
